BEGIN:VCALENDAR
VERSION:2.0
PRODID:-//Tukios.com/
BEGIN:VEVENT
UID:7ca529fc-bb43-41c1-abb4-480d6c261a69@www.whiteemerson.com
DTSTAMP:20260421T203936Z
DTSTART:20260501T200000Z
DTEND:20260501T210000Z
SUMMARY:Graveside Service
DESCRIPTION:
URL:https://www.whiteemerson.com/obituaries/roberta-elliott
LOCATION: 2161 S Fullerton Rd  Rowland Heights CA 91748
GEO:33.9808344;-117.9080561
END:VEVENT
END:VCALENDAR