BEGIN:VCALENDAR
VERSION:2.0
PRODID:-//Tukios.com/
BEGIN:VEVENT
UID:7e876cf4-aa47-4a05-abeb-3f364632d8fd@www.whiteemerson.com
DTSTAMP:20260421T204617Z
DTSTART:20260501T180000Z
DTEND:20260501T190000Z
SUMMARY:Funeral Service
DESCRIPTION:
URL:https://www.whiteemerson.com/obituaries/roberta-elliott
LOCATION: 13304 Philadelphia St  Whittier CA 90601
GEO:33.9785932;-118.0335664
END:VEVENT
END:VCALENDAR