BEGIN:VCALENDAR
VERSION:2.0
PRODID:-//Tukios.com/
BEGIN:VEVENT
UID:5fa8bac7-363b-448b-b88a-0691b6b2b4ec@www.whiteemerson.com
DTSTAMP:20260421T204009Z
DTSTART:20260501T000000Z
DTEND:20260501T030000Z
SUMMARY:Visitation
DESCRIPTION:
URL:https://www.whiteemerson.com/obituaries/roberta-elliott
LOCATION: 13304 Philadelphia St  Whittier CA 90601
GEO:33.9785932;-118.0335664
END:VEVENT
END:VCALENDAR