BEGIN:VCALENDAR
VERSION:2.0
PRODID:-//Tukios.com/
BEGIN:VEVENT
UID:a4d94020-f851-417d-8d19-b24185a46a4e@www.whiteemerson.com
DTSTAMP:20260423T204811Z
DTSTART:20260429T190000Z
DTEND:20260429T200000Z
SUMMARY:Memorial Service
DESCRIPTION:
URL:https://www.whiteemerson.com/obituaries/robert-martinez
LOCATION: 13304 Philadelphia St  Whittier CA 90601
GEO:33.9785932;-118.0335664
END:VEVENT
END:VCALENDAR