BEGIN:VCALENDAR
VERSION:2.0
PRODID:-//Tukios.com/
BEGIN:VEVENT
UID:9509b643-8faf-4ecb-8a9c-8733498d582b@www.whiteemerson.com
DTSTAMP:20260421T211514Z
DTSTART:20260508T200000Z
DTEND:20260508T210000Z
SUMMARY:Graveside Service
DESCRIPTION:
URL:https://www.whiteemerson.com/obituaries/miriam-lindberg
LOCATION: 3888 Workman Mill Rd  Whittier CA 90601
GEO:34.0157394;-118.0404553
END:VEVENT
END:VCALENDAR