BEGIN:VCALENDAR
VERSION:2.0
PRODID:-//Tukios.com/
BEGIN:VEVENT
UID:1627b9fd-75f7-43a8-8c87-6003eccf5b58@www.whiteemerson.com
DTSTAMP:20260421T211647Z
DTSTART:20260506T190000Z
DTEND:20260506T200000Z
SUMMARY:Funeral Service
DESCRIPTION:
URL:https://www.whiteemerson.com/obituaries/miriam-lindberg
LOCATION: 13304 Philadelphia St  Whittier CA 90601
GEO:33.9785932;-118.0335664
END:VEVENT
END:VCALENDAR