BEGIN:VCALENDAR
VERSION:2.0
PRODID:-//Tukios.com/
BEGIN:VEVENT
UID:d66c4919-7124-42a6-be70-28fe387d6026@www.whiteemerson.com
DTSTAMP:20260425T215257Z
DTSTART:20260509T230000Z
DTEND:20260510T010000Z
SUMMARY:Reception
DESCRIPTION:
URL:https://www.whiteemerson.com/obituaries/maria-vera
LOCATION: 13304 Philadelphia St  Whittier CA 90601
GEO:33.9785932;-118.0335664
END:VEVENT
END:VCALENDAR