BEGIN:VCALENDAR
VERSION:2.0
PRODID:-//Tukios.com/
BEGIN:VEVENT
UID:dc37d793-7bdf-45a3-99a7-8daee1af39c1@www.whiteemerson.com
DTSTAMP:20260425T215140Z
DTSTART:20260509T213000Z
DTEND:20260509T230000Z
SUMMARY:Memorial Service
DESCRIPTION:
URL:https://www.whiteemerson.com/obituaries/maria-vera
LOCATION: 13304 Philadelphia St  Whittier CA 90601
GEO:33.9785932;-118.0335664
END:VEVENT
END:VCALENDAR