BEGIN:VCALENDAR
VERSION:2.0
PRODID:-//Tukios.com/
BEGIN:VEVENT
UID:edb4ccf4-7b6b-4ee7-b568-91439ebc55e5@www.whiteemerson.com
DTSTAMP:20260423T203739Z
DTSTART:20260429T210000Z
DTEND:20260429T220000Z
SUMMARY:Graveside Service
DESCRIPTION:
URL:https://www.whiteemerson.com/obituaries/josefina-vasquez
LOCATION: 720 E Florence Ave  Inglewood CA 90301
GEO:33.9708891;-118.3435467
END:VEVENT
END:VCALENDAR