BEGIN:VCALENDAR
VERSION:2.0
PRODID:-//Tukios.com/
BEGIN:VEVENT
UID:988d8a8b-b86a-43f1-9a1a-f0c54a007beb@www.whiteemerson.com
DTSTAMP:20260423T204211Z
DTSTART:20260429T190000Z
DTEND:20260429T200000Z
SUMMARY:Mass
DESCRIPTION:
URL:https://www.whiteemerson.com/obituaries/josefina-vasquez
LOCATION: 1345 Turnbull Canyon Rd  Hacienda Heights CA 91745
GEO:34.0112629;-117.980451
END:VEVENT
END:VCALENDAR