BEGIN:VCALENDAR
VERSION:2.0
PRODID:-//Tukios.com/
BEGIN:VEVENT
UID:c57e0736-df3e-476d-92c1-e9c7515f1208@www.whiteemerson.com
DTSTAMP:20260423T204042Z
DTSTART:20260429T173000Z
DTEND:20260429T183000Z
SUMMARY:Visitation
DESCRIPTION:
URL:https://www.whiteemerson.com/obituaries/josefina-vasquez
LOCATION: 1345 Turnbull Canyon Rd  Hacienda Heights CA 91745
GEO:34.0112629;-117.980451
END:VEVENT
END:VCALENDAR