BEGIN:VCALENDAR
VERSION:2.0
PRODID:-//Tukios.com/
BEGIN:VEVENT
UID:b80b3d84-3252-40a9-81b5-bfc1a7a66a71@www.whiteemerson.com
DTSTAMP:20260425T020658Z
DTSTART:20260527T200000Z
DTEND:20260527T203000Z
SUMMARY:Graveside Service
DESCRIPTION:Arrive by 12:30-12:45p.m. to check in and meet at staging 
	area. Please stop at entrance information booth.
URL:https://www.whiteemerson.com/obituaries/jose-padilla
LOCATION: 22495 Van Buren Boulevard  March Air Reserve Base CA 92518
GEO:33.8856789;-117.2793226
END:VEVENT
END:VCALENDAR