BEGIN:VCALENDAR
VERSION:2.0
PRODID:-//Tukios.com/
BEGIN:VEVENT
UID:c60153b5-5cee-4fe7-a439-95f867ea022c@www.whiteemerson.com
DTSTAMP:20260425T020915Z
DTSTART:20260527T160000Z
DTEND:20260527T173000Z
SUMMARY:Funeral Service
DESCRIPTION:Depart from White Emerson Mortuary no later than 10:45p.m.
URL:https://www.whiteemerson.com/obituaries/jose-padilla
LOCATION: 13304 Philadelphia St  Whittier CA 90601
GEO:33.9785932;-118.0335664
END:VEVENT
END:VCALENDAR