BEGIN:VCALENDAR
VERSION:2.0
PRODID:-//Tukios.com/
BEGIN:VEVENT
UID:5dfe1b4d-5de1-40b9-8e9c-680d3e588d8b@www.whiteemerson.com
DTSTAMP:20260425T021100Z
DTSTART:20260527T010000Z
DTEND:20260527T020000Z
SUMMARY:Prayer Service
DESCRIPTION:
URL:https://www.whiteemerson.com/obituaries/jose-padilla
LOCATION: 13304 Philadelphia St  Whittier CA 90601
GEO:33.9785932;-118.0335664
END:VEVENT
END:VCALENDAR