BEGIN:VCALENDAR
VERSION:2.0
PRODID:-//Tukios.com/
BEGIN:VEVENT
UID:97ee50ea-b304-4fcf-9016-a952ad3037b5@www.whiteemerson.com
DTSTAMP:20260425T020413Z
DTSTART:20260527T000000Z
DTEND:20260527T030000Z
SUMMARY:Visitation
DESCRIPTION:
URL:https://www.whiteemerson.com/obituaries/jose-padilla
LOCATION: 13304 Philadelphia St  Whittier CA 90601
GEO:33.9785932;-118.0335664
END:VEVENT
END:VCALENDAR