BEGIN:VCALENDAR
VERSION:2.0
PRODID:-//Tukios.com/
BEGIN:VEVENT
UID:0d5934c6-c72f-44fc-89b5-6e8431e095c5@www.whiteemerson.com
DTSTAMP:20260423T204205Z
DTSTART:20260512T190000Z
DTEND:20260512T200000Z
SUMMARY:Graveside Service
DESCRIPTION:
URL:https://www.whiteemerson.com/obituaries/gilbert-martinez
LOCATION: 3888 Workman Mill Rd  Whittier CA 90601
GEO:34.0157394;-118.0404553
END:VEVENT
END:VCALENDAR