BEGIN:VCALENDAR
VERSION:2.0
PRODID:-//Tukios.com/
BEGIN:VEVENT
UID:e8218c24-e51f-40e8-81e6-c88e77c60a74@www.whiteemerson.com
DTSTAMP:20260423T203913Z
DTSTART:20260512T173000Z
DTEND:20260512T183000Z
SUMMARY:Mass
DESCRIPTION:
URL:https://www.whiteemerson.com/obituaries/gilbert-martinez
LOCATION: 7930 Passons Blvd  Pico Rivera CA 90660
GEO:33.9665189;-118.0970425
END:VEVENT
END:VCALENDAR