BEGIN:VCALENDAR
VERSION:2.0
PRODID:-//Tukios.com/
BEGIN:VEVENT
UID:9fa641dd-45e9-449a-a91d-3879969a8aa4@www.whiteemerson.com
DTSTAMP:20260423T203913Z
DTSTART:20260512T163000Z
DTEND:20260512T173000Z
SUMMARY:Visitation
DESCRIPTION:
URL:https://www.whiteemerson.com/obituaries/gilbert-martinez
LOCATION:Saint Mariana de Paredes Parish Center 7922 Passons Blvd  Pico 
	Rivera CA 90660
GEO:33.9669862;-118.0975762
END:VEVENT
END:VCALENDAR