BEGIN:VCALENDAR
VERSION:2.0
PRODID:-//Tukios.com/
BEGIN:VEVENT
UID:029f82db-b3f3-46be-8eaa-1d9c3f99dd58@www.whiteemerson.com
DTSTAMP:20260420T234659Z
DTSTART:20260425T220000Z
DTEND:20260426T000000Z
SUMMARY:Memorial Service
DESCRIPTION:Please arrive by 2:30p.m., Memorial Service will start @ 
	3p.m.
URL:https://www.whiteemerson.com/obituaries/bonifacia-elorde
LOCATION: 13304 Philadelphia St  Whittier CA 90601
GEO:33.9785932;-118.0335664
END:VEVENT
END:VCALENDAR